BEGIN:VCALENDAR
VERSION:2.0
PRODID:-//wp-events-plugin.com//6.6.4.4//EN
BEGIN:VEVENT
UID:107@glamorgannwg.org
DTSTART:20221123T190000Z
DTEND:20221123T213000Z
DTSTAMP:20221120T185455Z
URL:https://glamorgannwg.org/events/shamanic-drum-circle-with-jill/
SUMMARY:Shamanic Drum Circle with Jill
DESCRIPTION:For this evening’s workshop\, we are proud to welcome Jill wh
 o will direct us in a shamanic circle and drum journey. She will call in t
 he directions and create an altar to the elements in the centre. She will 
 teach a basic drumming rhythm and what it means. Then direct us in Earth c
 hants which we can all join in with if we wish. She will then close the ci
 rcle with our collective voice and positive intentions and after a break\,
  she will lead us in a drum journey.Please bring drums if you have one\, t
 here will be a few spare for borrowing\, plus other percussion. Please als
 o bring a camping chair (there are limited chairs available) and a blanket
  and mat or sleeing bag for the drum journey.You can join in as much or as
  little as you wish\, or just come to immerse yourself in the sound and en
 ergies! The drum circle will last approximately 1.5hrs with time for break
  before the drum journey.There is a suggested donation of £5-£10 to Jill
  for this event for community members\, and £10 for the public. Please bo
 ok below and pay cash on the night.\n\nJill Grange has been drumming in sh
 amanic circles for 7 years\, and now holds her own circles.\nShe is a Reik
 i Master and a Priestess of the Rose.\n\nDrinks and snacks are available a
 t the theatre bar. You are welcome to come along by 6.30pm to settle for t
 he workshop.\n\n&nbsp\;\n\nBOOKING NOTE: If you have previously booked on 
 this website you will have been automatically registered. To make further 
 bookings you need to log in. If you don’t know your password\, go to log
  in and reset your password by clicking the lost password link.\n\n
CATEGORIES:All Upcoming Events,Online Booking - Workshops
LOCATION:Caerphilly Workmen's Hall\, 20 Castle Street\, Caerphilly \, CF83 
 1NY\, Wales
X-APPLE-STRUCTURED-LOCATION;VALUE=URI;X-ADDRESS=20 Castle Street\, Caerphil
 ly \, CF83 1NY\, Wales;X-APPLE-RADIUS=100;X-TITLE=Caerphilly Workmen's Hal
 l:geo:0,0
END:VEVENT
END:VCALENDAR